BEGIN:VCALENDAR
VERSION:2.0
PRODID:-//Higher Grounding - ECPv6.15.20//NONSGML v1.0//EN
CALSCALE:GREGORIAN
METHOD:PUBLISH
X-ORIGINAL-URL:https://www.patriciabanzhoff.com
X-WR-CALDESC:Events for Higher Grounding
REFRESH-INTERVAL;VALUE=DURATION:PT1H
X-Robots-Tag:noindex
X-PUBLISHED-TTL:PT1H
BEGIN:VTIMEZONE
TZID:UTC
BEGIN:STANDARD
TZOFFSETFROM:+0000
TZOFFSETTO:+0000
TZNAME:UTC
DTSTART:20240101T000000
END:STANDARD
END:VTIMEZONE
BEGIN:VEVENT
DTSTART;TZID=UTC:20251221T180000
DTEND;TZID=UTC:20251221T210000
DTSTAMP:20260423T221447
CREATED:20250929T175622Z
LAST-MODIFIED:20250929T175622Z
UID:508-1766340000-1766350800@www.patriciabanzhoff.com
SUMMARY:Winter Solstice Potluck Dinner and Despacho
DESCRIPTION:On the shortest day when daylight is a premium\, come enjoy the camaderie and healthy food in my circa 1822 home. I provide a meat and a vegan entree. Guests bring the rest (easy on the desserts\, please). After dinner we gather in the great room and create a group prayer bundle\, which I then place in the fire in the fireplace. \nThis is a completely indoor event. And I need to know if you intend to come as space is limited to 24.  Text (717) 514-5177 or email patricia@banzhoff.com your reservation.
URL:https://www.patriciabanzhoff.com/events/winter-solstice-potluck-dinner-and-despacho/
LOCATION:Banzhoff Property\, 2308 Stumpstown Rd\, Mechanicsburg\, PA\, 17055-5784\, United States
ATTACH;FMTTYPE=image/jpeg:https://www.patriciabanzhoff.com/wp-content/uploads/2022/10/despacho-scaled.jpg
END:VEVENT
END:VCALENDAR