BEGIN:VCALENDAR
VERSION:2.0
PRODID:-//Higher Grounding - ECPv6.15.20//NONSGML v1.0//EN
CALSCALE:GREGORIAN
METHOD:PUBLISH
X-WR-CALNAME:Higher Grounding
X-ORIGINAL-URL:https://www.patriciabanzhoff.com
X-WR-CALDESC:Events for Higher Grounding
REFRESH-INTERVAL;VALUE=DURATION:PT1H
X-Robots-Tag:noindex
X-PUBLISHED-TTL:PT1H
BEGIN:VTIMEZONE
TZID:UTC
BEGIN:STANDARD
TZOFFSETFROM:+0000
TZOFFSETTO:+0000
TZNAME:UTC
DTSTART:20240101T000000
END:STANDARD
END:VTIMEZONE
BEGIN:VEVENT
DTSTART;TZID=UTC:20251101T190000
DTEND;TZID=UTC:20251101T203000
DTSTAMP:20260423T233318
CREATED:20250929T172457Z
LAST-MODIFIED:20250929T172457Z
UID:495-1762023600-1762029000@www.patriciabanzhoff.com
SUMMARY:Ancestral Fire Ceremony
DESCRIPTION:Whatever your tradition (Samhain\, Day of the Dead\, All Saints’ Day)\, November 1 is the special date when it is said\, the veil is thin and we can be closer to our ancestors. Come and honor the gifts and the lessons you came into this world to experience. Do a piece of sacred ceremony for your ancestral line that came before and will come after you. Bring a stick\, bring a chair\, bring a friend.
URL:https://www.patriciabanzhoff.com/events/ancestral-fire-ceremony/
LOCATION:Banzhoff Property\, 2308 Stumpstown Rd\, Mechanicsburg\, PA\, 17055-5784\, United States
ATTACH;FMTTYPE=image/jpeg:https://www.patriciabanzhoff.com/wp-content/uploads/2023/07/ancestorfire1.jpeg
ORGANIZER;CN="Pat":MAILTO:patricia@banzhoff.com
END:VEVENT
BEGIN:VEVENT
DTSTART;TZID=UTC:20251108T110000
DTEND;TZID=UTC:20251108T150000
DTSTAMP:20260423T233318
CREATED:20250929T173258Z
LAST-MODIFIED:20250929T173258Z
UID:499-1762599600-1762614000@www.patriciabanzhoff.com
SUMMARY:Fall Fest Herbal Sampling at Nguyen Integrative Medicine
DESCRIPTION:Nguyen Integrative Medicine (formerly Sage Integrative Medicine) is having a Fall Fest with food trucks\, etc. and ME with my herbal products.   This business is one of the ongoing sites where you can find my plant medicine – topicals only. However\, at this event I will have my complete line available.
URL:https://www.patriciabanzhoff.com/events/fall-fest-herbal-sampling-at-nguyen-integrative-medicine/
LOCATION:Nguyen Integrative Medicine\, 1007 Mumma Rd #200\, Wormleysburg\, PA\, 17043\, United States
ATTACH;FMTTYPE=image/jpeg:https://www.patriciabanzhoff.com/wp-content/uploads/2024/08/herbal-liquids-scaled.jpg
END:VEVENT
BEGIN:VEVENT
DTSTART;TZID=UTC:20251123T120000
DTEND;TZID=UTC:20251123T150000
DTSTAMP:20260423T233318
CREATED:20250929T174335Z
LAST-MODIFIED:20250929T174335Z
UID:504-1763899200-1763910000@www.patriciabanzhoff.com
SUMMARY:Sample Sunday at Consciousness Coffee
DESCRIPTION:I love setting up\, sitting back\, having a latte or cup of tea\, and chatting about herbs and their medicinal properties. Try my fire cider and elderberry syrup as well as the rest of my line. Cold and flu season comes around now and I have a variety of supportive items to consider. I will also bring gift certificates for Readings and Healing Sessions – 10% off with the purchase of $20 or more.
URL:https://www.patriciabanzhoff.com/events/sample-sunday-at-consciousness-coffee-2/
LOCATION:Consciousness Coffee\, 1 Lemoyne Square Suite 108\, Lemoyne\, PA\, 17043\, United States
ATTACH;FMTTYPE=image/jpeg:https://www.patriciabanzhoff.com/wp-content/uploads/2025/08/20250718_105338-scaled.jpg
END:VEVENT
END:VCALENDAR