BEGIN:VCALENDAR
VERSION:2.0
PRODID:-//Higher Grounding - ECPv6.15.20//NONSGML v1.0//EN
CALSCALE:GREGORIAN
METHOD:PUBLISH
X-WR-CALNAME:Higher Grounding
X-ORIGINAL-URL:https://www.patriciabanzhoff.com
X-WR-CALDESC:Events for Higher Grounding
REFRESH-INTERVAL;VALUE=DURATION:PT1H
X-Robots-Tag:noindex
X-PUBLISHED-TTL:PT1H
BEGIN:VTIMEZONE
TZID:UTC
BEGIN:STANDARD
TZOFFSETFROM:+0000
TZOFFSETTO:+0000
TZNAME:UTC
DTSTART:20240101T000000
END:STANDARD
END:VTIMEZONE
BEGIN:VEVENT
DTSTART;TZID=UTC:20250922T190000
DTEND;TZID=UTC:20250922T203000
DTSTAMP:20260424T023342
CREATED:20250825T201701Z
LAST-MODIFIED:20250825T201701Z
UID:477-1758567600-1758573000@www.patriciabanzhoff.com
SUMMARY:Fall Equinox Fire Ceremony
DESCRIPTION:If you have never been to one of my ceremonies\, no worries. You will quickly become comfortable with the participants and you will not be the only first timer\, more times than not. \nFire Ceremony is a sacred ceremony with all belief systems welcome. The super simple explanation is that you bring a stick\, blow your intention (prayer or whatever you want to call it) into your stick\, and feed it to the fire. \nSo\, come on down!
URL:https://www.patriciabanzhoff.com/events/fall-equinox-fire-ceremony-2/
LOCATION:Banzhoff Property\, 2308 Stumpstown Rd\, Mechanicsburg\, PA\, 17055-5784\, United States
ATTACH;FMTTYPE=image/png:https://www.patriciabanzhoff.com/wp-content/uploads/2025/08/Fall-Equinox-Fire-Ceremony-Monday-September-222025.png
ORGANIZER;CN="Pat":MAILTO:patricia@banzhoff.com
END:VEVENT
END:VCALENDAR