BEGIN:VCALENDAR
VERSION:2.0
PRODID:-//Higher Grounding - ECPv6.15.20//NONSGML v1.0//EN
CALSCALE:GREGORIAN
METHOD:PUBLISH
X-ORIGINAL-URL:https://www.patriciabanzhoff.com
X-WR-CALDESC:Events for Higher Grounding
REFRESH-INTERVAL;VALUE=DURATION:PT1H
X-Robots-Tag:noindex
X-PUBLISHED-TTL:PT1H
BEGIN:VTIMEZONE
TZID:UTC
BEGIN:STANDARD
TZOFFSETFROM:+0000
TZOFFSETTO:+0000
TZNAME:UTC
DTSTART:20240101T000000
END:STANDARD
END:VTIMEZONE
BEGIN:VEVENT
DTSTART;TZID=UTC:20250201T100000
DTEND;TZID=UTC:20250201T200000
DTSTAMP:20260424T134659
CREATED:20250117T203056Z
LAST-MODIFIED:20250117T203056Z
UID:366-1738404000-1738440000@www.patriciabanzhoff.com
SUMMARY:Mini Readings at Ice Fest 2025
DESCRIPTION:It’s Ice Fest time again. The rare opportunity to get a mini reading (15 minutes for $20)! \nI will be at the Harry Potter Show and Dance at the american Legion next door on 1/31 and in the shop all day on 2/1. Walk in only. Come see me!
URL:https://www.patriciabanzhoff.com/events/mini-readings-at-ice-fest-2025/
LOCATION:Carlisle Creative Vibes\, 152 N Hanover St\, Carlisle\, PA\, 17013\, United States
ATTACH;FMTTYPE=image/jpeg:https://www.patriciabanzhoff.com/wp-content/uploads/2024/02/readings-scaled.jpg
END:VEVENT
BEGIN:VEVENT
DTSTART;TZID=UTC:20250215T140000
DTEND;TZID=UTC:20250215T153000
DTSTAMP:20260424T134659
CREATED:20250117T202611Z
LAST-MODIFIED:20250117T202611Z
UID:363-1739628000-1739633400@www.patriciabanzhoff.com
SUMMARY:Take Heart An Herbal and Energetic Afternoon
DESCRIPTION:How’s Your Heart? Instead of How Are You? \nThat question became the theme of a retreat I attended years ago. In this class we will explore herbal samples and energetic aspects in support of our hearts. So join me and learn/taste/smell some key herbs to support our hearts\, our circulatory\, and our lymphatic systems. We will also do a heart-centered guided meditation.
URL:https://www.patriciabanzhoff.com/events/take-heart-an-herbal-and-energetic-afternoon/
LOCATION:Carlisle Creative Vibes\, 152 N Hanover St\, Carlisle\, PA\, 17013\, United States
ATTACH;FMTTYPE=image/png:https://www.patriciabanzhoff.com/wp-content/uploads/2025/01/Take-Heart-Canva1.png
ORGANIZER;CN="Matthew":MAILTO:carlislecreativevibes@gmail.com
END:VEVENT
END:VCALENDAR