BEGIN:VCALENDAR
VERSION:2.0
PRODID:-//Higher Grounding - ECPv6.15.20//NONSGML v1.0//EN
CALSCALE:GREGORIAN
METHOD:PUBLISH
X-WR-CALNAME:Higher Grounding
X-ORIGINAL-URL:https://www.patriciabanzhoff.com
X-WR-CALDESC:Events for Higher Grounding
REFRESH-INTERVAL;VALUE=DURATION:PT1H
X-Robots-Tag:noindex
X-PUBLISHED-TTL:PT1H
BEGIN:VTIMEZONE
TZID:UTC
BEGIN:STANDARD
TZOFFSETFROM:+0000
TZOFFSETTO:+0000
TZNAME:UTC
DTSTART:20240101T000000
END:STANDARD
END:VTIMEZONE
BEGIN:VEVENT
DTSTART;TZID=UTC:20250111T130000
DTEND;TZID=UTC:20250111T160000
DTSTAMP:20260424T153913
CREATED:20241214T191958Z
LAST-MODIFIED:20241214T191958Z
UID:351-1736600400-1736611200@www.patriciabanzhoff.com
SUMMARY:2025 Vision Board Workshops
DESCRIPTION:We have entered a time where intuition is easier and manifesting can be quicker than ever. All we need is a little focus and attention. At the same time “trying” can be counterproductive. So come\, be open to what you are attracted to in browsing through pictures and save it by putting it on your vision board. Free-hand art is also an avenue if you wish to include it. A light and playful attitude is a must! (this is not work!)
URL:https://www.patriciabanzhoff.com/events/2025-vision-board-workshops/
LOCATION:Banzhoff Property\, 2308 Stumpstown Rd\, Mechanicsburg\, PA\, 17055-5784\, United States
ATTACH;FMTTYPE=image/jpeg:https://www.patriciabanzhoff.com/wp-content/uploads/2024/12/thumbnail_20211230_1343381.jpg
ORGANIZER;CN="Pat":MAILTO:patricia@banzhoff.com
END:VEVENT
BEGIN:VEVENT
DTSTART;TZID=UTC:20250112T130000
DTEND;TZID=UTC:20250112T160000
DTSTAMP:20260424T153913
CREATED:20241223T180417Z
LAST-MODIFIED:20241223T180417Z
UID:357-1736686800-1736697600@www.patriciabanzhoff.com
SUMMARY:Magical Manifesting Vision Board Workshop
DESCRIPTION:We have entered a time where intuition is easier and manifesting can be quicker than ever. All we need is a little focus and attention. At the same time “trying” can be counterproductive. So come\, be open to what you are attracted to in browsing through pictures and save it by putting it on your vision board. Free-hand art is also an avenue if you wish to include it. A light and playful attitude is a must! (this is not work!) \nI will open the afternoon with a guided meditation to set us up and then you can “let ‘er rip – or cut . \nAll supplies included (but certainly bring favorite pictures or things you may want for your board) Spare magazines welcome \nLight snacks and beverages provided
URL:https://www.patriciabanzhoff.com/events/magical-manifesting-vision-board-workshop/
LOCATION:Banzhoff Property\, 2308 Stumpstown Rd\, Mechanicsburg\, PA\, 17055-5784\, United States
ATTACH;FMTTYPE=image/jpeg:https://www.patriciabanzhoff.com/wp-content/uploads/2024/12/Laurenvisionboard-scaled.jpg
ORGANIZER;CN="Pat":MAILTO:patricia@banzhoff.com
END:VEVENT
BEGIN:VEVENT
DTSTART;TZID=UTC:20250119T130000
DTEND;TZID=UTC:20250119T160000
DTSTAMP:20260424T153913
CREATED:20241223T180948Z
LAST-MODIFIED:20241223T180948Z
UID:359-1737291600-1737302400@www.patriciabanzhoff.com
SUMMARY:Magical Manifesting Vision Board Workshop (3rd of 3)
DESCRIPTION:We have entered a time where intuition is easier and manifesting can be quicker than ever. All we need is a little focus and attention. At the same time “trying” can be counterproductive. So come\, be open to what you are attracted to in browsing through pictures and save it by putting it on your vision board. Free-hand art is also an avenue if you wish to include it. A light and playful attitude is a must! (this is not work!) \nI will open the afternoon with a guided meditation to set us up and then you can “let ‘er rip – or cut . \nAll supplies included (but certainly bring favorite pictures or things you may want for your board) Spare magazines welcome \nLight snacks and beverages provided
URL:https://www.patriciabanzhoff.com/events/magical-manifesting-vision-board-workshop-3rd-of-3/
LOCATION:Banzhoff Property\, 2308 Stumpstown Rd\, Mechanicsburg\, PA\, 17055-5784\, United States
ATTACH;FMTTYPE=image/jpeg:https://www.patriciabanzhoff.com/wp-content/uploads/2024/12/thumbnail_20211230_1343381.jpg
ORGANIZER;CN="Pat":MAILTO:patricia@banzhoff.com
END:VEVENT
END:VCALENDAR