BEGIN:VCALENDAR
VERSION:2.0
PRODID:-//Higher Grounding - ECPv6.15.20//NONSGML v1.0//EN
CALSCALE:GREGORIAN
METHOD:PUBLISH
X-WR-CALNAME:Higher Grounding
X-ORIGINAL-URL:https://www.patriciabanzhoff.com
X-WR-CALDESC:Events for Higher Grounding
REFRESH-INTERVAL;VALUE=DURATION:PT1H
X-Robots-Tag:noindex
X-PUBLISHED-TTL:PT1H
BEGIN:VTIMEZONE
TZID:UTC
BEGIN:STANDARD
TZOFFSETFROM:+0000
TZOFFSETTO:+0000
TZNAME:UTC
DTSTART:20230101T000000
END:STANDARD
END:VTIMEZONE
BEGIN:VEVENT
DTSTART;TZID=UTC:20240518T110000
DTEND;TZID=UTC:20240518T180000
DTSTAMP:20260425T034934
CREATED:20240515T185151Z
LAST-MODIFIED:20240515T191006Z
UID:292-1716030000-1716055200@www.patriciabanzhoff.com
SUMMARY:Intuitive Readings at Carlisle Creative Vibes
DESCRIPTION:Most months you can find me at Carlisle Creative Vibes on the 3rd Saturday. Walk in or reserve a time. I provide 20 or 30 minute readings. My style is to primarily use “coral casting”\, a tool I learned in Cozumel and where the pieces are from that I use. We complete the reading with an oracle card spread. I invite the client to participate and practice reading the signs. Or I can do all the talking\, no worries!
URL:https://www.patriciabanzhoff.com/events/intuitive-readings-at-carlisle-creative-vibes-16/
LOCATION:Carlisle Creative Vibes\, 152 N Hanover St\, Carlisle\, PA\, 17013\, United States
ATTACH;FMTTYPE=image/jpeg:https://www.patriciabanzhoff.com/wp-content/uploads/2024/02/readings-scaled.jpg
ORGANIZER;CN="Matthew":MAILTO:carlislecreativevibes@gmail.com
END:VEVENT
BEGIN:VEVENT
DTSTART;TZID=UTC:20240521T180000
DTEND;TZID=UTC:20240521T200000
DTSTAMP:20260425T034934
CREATED:20240406T173548Z
LAST-MODIFIED:20240406T173548Z
UID:289-1716314400-1716321600@www.patriciabanzhoff.com
SUMMARY:A Chat With Pat: Herbs for Day and Night
DESCRIPTION:Would you like to optimize your daytime clarity as well as your night’s dreamtime? \nSpend a Spring evening with Pat Banzhoff\, Shaman and graduate of Rosemary’s Gladstar’s Herbalism Training as well as The Rosemary House\, Mechanicsburg\, Practical Herbalism Course.  \nPat will discuss and demonstrate herbs and herbal applications for daytime mental clarity\, emotional balance\, as well as nighttime sleep assistance. All herbs included are non-habit forming herbs. \nParticipants will taste samples and take home a Sweet  Dreams Balm for their personal use! \nReserve your spot at carlislecreativevibes.com
URL:https://www.patriciabanzhoff.com/events/a-chat-with-pat-herbs-for-day-and-night/
LOCATION:Carlisle Creative Vibes\, 152 N Hanover St\, Carlisle\, PA\, 17013\, United States
ATTACH;FMTTYPE=image/jpeg:https://www.patriciabanzhoff.com/wp-content/uploads/2024/04/Herbal-Medicine-Class.jpg
ORGANIZER;CN="Pat":MAILTO:patricia@banzhoff.com
END:VEVENT
END:VCALENDAR