BEGIN:VCALENDAR
VERSION:2.0
PRODID:-//Higher Grounding - ECPv6.15.20//NONSGML v1.0//EN
CALSCALE:GREGORIAN
METHOD:PUBLISH
X-WR-CALNAME:Higher Grounding
X-ORIGINAL-URL:https://www.patriciabanzhoff.com
X-WR-CALDESC:Events for Higher Grounding
REFRESH-INTERVAL;VALUE=DURATION:PT1H
X-Robots-Tag:noindex
X-PUBLISHED-TTL:PT1H
BEGIN:VTIMEZONE
TZID:UTC
BEGIN:STANDARD
TZOFFSETFROM:+0000
TZOFFSETTO:+0000
TZNAME:UTC
DTSTART:20220101T000000
END:STANDARD
END:VTIMEZONE
BEGIN:VEVENT
DTSTART;TZID=UTC:20231216T110000
DTEND;TZID=UTC:20231216T180000
DTSTAMP:20260425T113849
CREATED:20230707T193520Z
LAST-MODIFIED:20230707T193520Z
UID:206-1702724400-1702749600@www.patriciabanzhoff.com
SUMMARY:Intuitive Readings at Carlisle Creative Vibes
DESCRIPTION:I use a unique process called coral casting. My tool is a set of small pieces of coral from the island of Cozumel where I learned how to “read” them. We finish the session with a 3 card spread. The experience is interactive and instructional. Intrigued?
URL:https://www.patriciabanzhoff.com/events/intuitive-readings-at-carlisle-creative-vibes-13/
LOCATION:Carlisle Creative Vibes\, 152 N Hanover St\, Carlisle\, PA\, 17013\, United States
ATTACH;FMTTYPE=image/jpeg:https://www.patriciabanzhoff.com/wp-content/uploads/2022/05/coralcasting-scaled-e1654019998466.jpg
ORGANIZER;CN="Matthew":MAILTO:carlislecreativevibes@gmail.com
END:VEVENT
BEGIN:VEVENT
DTSTART;TZID=UTC:20231221T180000
DTEND;TZID=UTC:20231221T203000
DTSTAMP:20260425T113849
CREATED:20230707T201520Z
LAST-MODIFIED:20230707T201520Z
UID:218-1703181600-1703190600@www.patriciabanzhoff.com
SUMMARY:Winter Solstice Pot Luck and Despacho (Prayer Bundle)
DESCRIPTION:This event is totally indooors. We begin with a shared meal. I will have a vegan entree and a meat. Please contribute something of your own (easy on the sugar\, please!) \nAnd then\, we convene in the large family room for creating together a group prayer bundle\, called a despacho.  I provide all materials\, however if there is a special intention and an easily burnable item to convey that\, you are welcome to customize your part. \nMy holiday season is not complete without this event. I invite you join me.\ntext or email with your intention to come.
URL:https://www.patriciabanzhoff.com/events/winter-solstice-pot-luck-and-despacho-prayer-bundle/
LOCATION:Banzhoff Property\, 2308 Stumpstown Rd\, Mechanicsburg\, PA\, 17055-5784\, United States
ATTACH;FMTTYPE=image/jpeg:https://www.patriciabanzhoff.com/wp-content/uploads/2022/10/open-despacho-scaled.jpg
ORGANIZER;CN="Pat":MAILTO:patricia@banzhoff.com
END:VEVENT
END:VCALENDAR