BEGIN:VCALENDAR
VERSION:2.0
PRODID:-//Higher Grounding - ECPv6.15.20//NONSGML v1.0//EN
CALSCALE:GREGORIAN
METHOD:PUBLISH
X-ORIGINAL-URL:https://www.patriciabanzhoff.com
X-WR-CALDESC:Events for Higher Grounding
REFRESH-INTERVAL;VALUE=DURATION:PT1H
X-Robots-Tag:noindex
X-PUBLISHED-TTL:PT1H
BEGIN:VTIMEZONE
TZID:UTC
BEGIN:STANDARD
TZOFFSETFROM:+0000
TZOFFSETTO:+0000
TZNAME:UTC
DTSTART:20220101T000000
END:STANDARD
END:VTIMEZONE
BEGIN:VEVENT
DTSTART;TZID=UTC:20231007T100000
DTEND;TZID=UTC:20231008T180000
DTSTAMP:20260425T150025
CREATED:20230707T194834Z
LAST-MODIFIED:20230707T194834Z
UID:208-1696672800-1696788000@www.patriciabanzhoff.com
SUMMARY:Intuitive Readings at Spirit of Oneness Expo
DESCRIPTION:At this wonderful annual weekend event\, I bring my Coral Casting tools and decks of cards. You will find me at my same table on the “Root Chakra” level (lower level).
URL:https://www.patriciabanzhoff.com/events/intuitive-readings-at-spirit-of-oneness-expo-2/
LOCATION:Scottish Rite Cathedral\, 2701 N 3rd Street\, Harrisburg\, PA\, 17110\, United States
ATTACH;FMTTYPE=image/jpeg:https://www.patriciabanzhoff.com/wp-content/uploads/2023/07/spirit_of_oneness_logo_copyright.jpg
ORGANIZER;CN="Sharon Muzio":MAILTO:avwc@comcast.net
END:VEVENT
BEGIN:VEVENT
DTSTART;TZID=UTC:20231021T110000
DTEND;TZID=UTC:20231021T180000
DTSTAMP:20260425T150025
CREATED:20230707T192620Z
LAST-MODIFIED:20230707T192620Z
UID:202-1697886000-1697911200@www.patriciabanzhoff.com
SUMMARY:Intuitive Readings at Carlisle Creative Vibes
DESCRIPTION:I use a unique process called coral casting. My tool is a set of small pieces of coral from the island of Cozumel where I learned how to “read” them. We finish the session with a 3 card spread. The experience is interactive and instructional. Intrigued?
URL:https://www.patriciabanzhoff.com/events/intuitive-readings-at-carlisle-creative-vibes-11/
LOCATION:Carlisle Creative Vibes\, 152 N Hanover St\, Carlisle\, PA\, 17013\, United States
ATTACH;FMTTYPE=image/jpeg:https://www.patriciabanzhoff.com/wp-content/uploads/2022/05/coralcasting-scaled-e1654019998466.jpg
ORGANIZER;CN="Matthew":MAILTO:carlislecreativevibes@gmail.com
END:VEVENT
BEGIN:VEVENT
DTSTART;TZID=UTC:20231024T183000
DTEND;TZID=UTC:20231024T200000
DTSTAMP:20260425T150025
CREATED:20230707T200827Z
LAST-MODIFIED:20230707T200827Z
UID:216-1698172200-1698177600@www.patriciabanzhoff.com
SUMMARY:Create a Despacho (prayer bundle)
DESCRIPTION:Creating a despacho is a lovely 3D way to set intentions in a group setting\, using symbolic and natural elements. It is appropriate for any occasion but especially meaningful around November 1 (All Saints Day\, Day of the Dead\, Samhain) to honor ancestors. Join Shaman Pat Banzhoff in this lovely ceremony. The group will create one “community” prayer bundle in class which Shaman Pat will burn on our behalf on Nov. 1st (all are invited to that fire also). Plus\, step by step instructions to create your own at home will be provided.
URL:https://www.patriciabanzhoff.com/events/create-a-despacho-prayer-bundle/
LOCATION:The Rosemary House & Gardens\, 120 South Market Street\, Mechanicsburg\, PA\, 17055\, United States
ATTACH;FMTTYPE=image/jpeg:https://www.patriciabanzhoff.com/wp-content/uploads/2022/10/despacho-scaled.jpg
END:VEVENT
BEGIN:VEVENT
DTSTART;TZID=UTC:20231026T183000
DTEND;TZID=UTC:20231026T200000
DTSTAMP:20260425T150025
CREATED:20230903T215943Z
LAST-MODIFIED:20230903T220143Z
UID:233-1698345000-1698350400@www.patriciabanzhoff.com
SUMMARY:Mythic Mapping
DESCRIPTION:This night will be the third of three independent conversations and experiences.  As we navigate our days and nights\, we notice – we ask – we listen – and we appreciate\, what gets our senses’ surprised attention.  This evening (and the first two evenings) we can explore the message and “map” it into our bigger picture.
URL:https://www.patriciabanzhoff.com/events/mythic-mapping-2/
LOCATION:Banzhoff Property\, 2308 Stumpstown Rd\, Mechanicsburg\, PA\, 17055-5784\, United States
ORGANIZER;CN="Pat":MAILTO:patricia@banzhoff.com
END:VEVENT
END:VCALENDAR