BEGIN:VCALENDAR
VERSION:2.0
PRODID:-//Higher Grounding - ECPv6.15.20//NONSGML v1.0//EN
CALSCALE:GREGORIAN
METHOD:PUBLISH
X-WR-CALNAME:Higher Grounding
X-ORIGINAL-URL:https://www.patriciabanzhoff.com
X-WR-CALDESC:Events for Higher Grounding
REFRESH-INTERVAL;VALUE=DURATION:PT1H
X-Robots-Tag:noindex
X-PUBLISHED-TTL:PT1H
BEGIN:VTIMEZONE
TZID:America/New_York
BEGIN:DAYLIGHT
TZOFFSETFROM:-0500
TZOFFSETTO:-0400
TZNAME:EDT
DTSTART:20210314T070000
END:DAYLIGHT
BEGIN:STANDARD
TZOFFSETFROM:-0400
TZOFFSETTO:-0500
TZNAME:EST
DTSTART:20211107T060000
END:STANDARD
BEGIN:DAYLIGHT
TZOFFSETFROM:-0500
TZOFFSETTO:-0400
TZNAME:EDT
DTSTART:20220313T070000
END:DAYLIGHT
BEGIN:STANDARD
TZOFFSETFROM:-0400
TZOFFSETTO:-0500
TZNAME:EST
DTSTART:20221106T060000
END:STANDARD
BEGIN:DAYLIGHT
TZOFFSETFROM:-0500
TZOFFSETTO:-0400
TZNAME:EDT
DTSTART:20230312T070000
END:DAYLIGHT
BEGIN:STANDARD
TZOFFSETFROM:-0400
TZOFFSETTO:-0500
TZNAME:EST
DTSTART:20231105T060000
END:STANDARD
END:VTIMEZONE
BEGIN:VEVENT
DTSTART;TZID=America/New_York:20220609T183000
DTEND;TZID=America/New_York:20220609T200000
DTSTAMP:20260424T154616
CREATED:20220519T211424Z
LAST-MODIFIED:20220519T211424Z
UID:97-1654799400-1654804800@www.patriciabanzhoff.com
SUMMARY:Smudging Products and Techniques
DESCRIPTION:Come one Come all – new or proficient smudgersSmudging is a ceremonial rite used by many cultures for cleansing or blessing persons and/or spaces. We will play with and discuss – the different properties of a variety of products used as tools for smudging. We will focus on technique\, how to receive “information” from our efforts and practice smudging each other. Each participant will go home having made a mini smudge stick for their own future use.
URL:https://www.patriciabanzhoff.com/events/smudging-products-and-techniques/
LOCATION:The Rosemary House & Gardens\, 120 South Market Street\, Mechanicsburg\, PA\, 17055\, United States
END:VEVENT
END:VCALENDAR