BEGIN:VCALENDAR
VERSION:2.0
PRODID:-//Higher Grounding - ECPv6.15.20//NONSGML v1.0//EN
CALSCALE:GREGORIAN
METHOD:PUBLISH
X-WR-CALNAME:Higher Grounding
X-ORIGINAL-URL:https://www.patriciabanzhoff.com
X-WR-CALDESC:Events for Higher Grounding
REFRESH-INTERVAL;VALUE=DURATION:PT1H
X-Robots-Tag:noindex
X-PUBLISHED-TTL:PT1H
BEGIN:VTIMEZONE
TZID:UTC
BEGIN:STANDARD
TZOFFSETFROM:+0000
TZOFFSETTO:+0000
TZNAME:UTC
DTSTART:20210101T000000
END:STANDARD
END:VTIMEZONE
BEGIN:VTIMEZONE
TZID:America/Halifax
BEGIN:DAYLIGHT
TZOFFSETFROM:-0400
TZOFFSETTO:-0300
TZNAME:ADT
DTSTART:20210314T060000
END:DAYLIGHT
BEGIN:STANDARD
TZOFFSETFROM:-0300
TZOFFSETTO:-0400
TZNAME:AST
DTSTART:20211107T050000
END:STANDARD
BEGIN:DAYLIGHT
TZOFFSETFROM:-0400
TZOFFSETTO:-0300
TZNAME:ADT
DTSTART:20220313T060000
END:DAYLIGHT
BEGIN:STANDARD
TZOFFSETFROM:-0300
TZOFFSETTO:-0400
TZNAME:AST
DTSTART:20221106T050000
END:STANDARD
BEGIN:DAYLIGHT
TZOFFSETFROM:-0400
TZOFFSETTO:-0300
TZNAME:ADT
DTSTART:20230312T060000
END:DAYLIGHT
BEGIN:STANDARD
TZOFFSETFROM:-0300
TZOFFSETTO:-0400
TZNAME:AST
DTSTART:20231105T050000
END:STANDARD
END:VTIMEZONE
BEGIN:VTIMEZONE
TZID:America/New_York
BEGIN:DAYLIGHT
TZOFFSETFROM:-0500
TZOFFSETTO:-0400
TZNAME:EDT
DTSTART:20210314T070000
END:DAYLIGHT
BEGIN:STANDARD
TZOFFSETFROM:-0400
TZOFFSETTO:-0500
TZNAME:EST
DTSTART:20211107T060000
END:STANDARD
BEGIN:DAYLIGHT
TZOFFSETFROM:-0500
TZOFFSETTO:-0400
TZNAME:EDT
DTSTART:20220313T070000
END:DAYLIGHT
BEGIN:STANDARD
TZOFFSETFROM:-0400
TZOFFSETTO:-0500
TZNAME:EST
DTSTART:20221106T060000
END:STANDARD
BEGIN:DAYLIGHT
TZOFFSETFROM:-0500
TZOFFSETTO:-0400
TZNAME:EDT
DTSTART:20230312T070000
END:DAYLIGHT
BEGIN:STANDARD
TZOFFSETFROM:-0400
TZOFFSETTO:-0500
TZNAME:EST
DTSTART:20231105T060000
END:STANDARD
END:VTIMEZONE
BEGIN:VEVENT
DTSTART;TZID=UTC:20230505T190000
DTEND;TZID=UTC:20230505T203000
DTSTAMP:20260425T135559
CREATED:20230427T162937Z
LAST-MODIFIED:20230427T162937Z
UID:181-1683313200-1683318600@www.patriciabanzhoff.com
SUMMARY:Full Moon/Lunar Eclipse Fire Ceremony in Mechanicsburg
DESCRIPTION:This penumbral (partial) eclipse will not be seen on our continent\, nevertheless it is a pivotal time energetically. It is also Cinco de Mayo so come shake a rattle with me in sacred ceremony! 7 pm at 2308 Stumpstown Road. Donations accepted/not expected. There are always “first timers”.  I would love to meet you or see you again! May is also the “Flower Moon” so I made a rattle bouquet\, adding Mugwort for the greens.
URL:https://www.patriciabanzhoff.com/events/full-moon-lunar-eclipse-fire-ceremony-in-mechanicsburg/
LOCATION:Banzhoff Property\, 2308 Stumpstown Rd\, Mechanicsburg\, PA\, 17055-5784\, United States
ATTACH;FMTTYPE=image/jpeg:https://www.patriciabanzhoff.com/wp-content/uploads/2023/04/rattle-bouquet-scaled.jpg
ORGANIZER;CN="Pat":MAILTO:patricia@banzhoff.com
END:VEVENT
BEGIN:VEVENT
DTSTART;TZID=UTC:20230401T110000
DTEND;TZID=UTC:20230401T180000
DTSTAMP:20260425T135559
CREATED:20230331T164932Z
LAST-MODIFIED:20230331T164932Z
UID:167-1680346800-1680372000@www.patriciabanzhoff.com
SUMMARY:Intuitive Readings at Carlisle Creative Vibes
DESCRIPTION:No fooling. I will be at Carlisle creative Vibes doing intuitive readings with my coral casting tools and decks of cards. Hop in for a reading or schedule on carlislecreativevibes.com website
URL:https://www.patriciabanzhoff.com/events/intuitive-readings-at-carlisle-creative-vibes-6/
LOCATION:Carlisle Creative Vibes\, 152 N Hanover St\, Carlisle\, PA\, 17013\, United States
ATTACH;FMTTYPE=image/jpeg:https://www.patriciabanzhoff.com/wp-content/uploads/2022/05/coralcasting-scaled-e1654019998466.jpg
ORGANIZER;CN="Matthew":MAILTO:carlislecreativevibes@gmail.com
END:VEVENT
BEGIN:VEVENT
DTSTART;TZID=UTC:20230318T110000
DTEND;TZID=UTC:20230318T170000
DTSTAMP:20260425T135559
CREATED:20230303T180310Z
LAST-MODIFIED:20230303T180310Z
UID:164-1679137200-1679158800@www.patriciabanzhoff.com
SUMMARY:Intuitive Readings at Carlisle Creative Vibes
DESCRIPTION:Pat uses a unique tool called “Coral Casting” What is Coral Casting? It is a creative\, interactive experience using pieces of beach coral where your inner wisdom and Pat’s intuitive skills join to provide information for you. A three-card draw completes the session.
URL:https://www.patriciabanzhoff.com/events/intuitive-readings-at-carlisle-creative-vibes-5/
LOCATION:Carlisle Creative Vibes\, 152 N Hanover St\, Carlisle\, PA\, 17013\, United States
ATTACH;FMTTYPE=image/jpeg:https://www.patriciabanzhoff.com/wp-content/uploads/2022/05/coralcasting-scaled-e1654019998466.jpg
ORGANIZER;CN="Matthew":MAILTO:carlislecreativevibes@gmail.com
END:VEVENT
BEGIN:VEVENT
DTSTART;TZID=America/Halifax:20221101T180000
DTEND;TZID=America/Halifax:20221101T210000
DTSTAMP:20260425T135559
CREATED:20221018T122215Z
LAST-MODIFIED:20221018T122215Z
UID:152-1667325600-1667336400@www.patriciabanzhoff.com
SUMMARY:Workshop "How to make a despacho (prayer bundle)
DESCRIPTION:November 1 is a special day in many cultures where it is believed the veil is thin. It is an opportunity to honor our lineage\, our personal angels and guides – who or whatever gives you assistance. We will gather indoors to create our group despacho. Immediately following the creation of the bundle\, we will have a fire ceremony in the backyard\, offering the bundle (and our intentions) to the fire. Bring a stick and a chair for the outdoor fire ceremony.
URL:https://www.patriciabanzhoff.com/events/workshop-how-to-make-a-despacho-prayer-bundle/
LOCATION:Carlisle Creative Vibes\, 152 N Hanover St\, Carlisle\, PA\, 17013\, United States
ATTACH;FMTTYPE=image/jpeg:https://www.patriciabanzhoff.com/wp-content/uploads/2022/10/despacho-scaled.jpg
ORGANIZER;CN="Matthew":MAILTO:carlislecreativevibes@gmail.com
END:VEVENT
BEGIN:VEVENT
DTSTART;TZID=UTC:20221001T100000
DTEND;TZID=UTC:20221002T170000
DTSTAMP:20260425T135559
CREATED:20220614T174222Z
LAST-MODIFIED:20220614T174222Z
UID:143-1664618400-1664730000@www.patriciabanzhoff.com
SUMMARY:Intuitive Readings at Spirit of Oneness Expo
DESCRIPTION:This Expo is a lovely annual event with multiple vendors and workshops. My booth is on the lower level (the “Root Chakra” area). Saturday 10 to 6 and Sunday 10 to 5 event.
URL:https://www.patriciabanzhoff.com/events/intuitive-readings-at-spirit-of-oneness-expo/
LOCATION:Scottish Rite Cathedral\, 2701 N 3rd Street\, Harrisburg\, PA\, 17110\, United States
ORGANIZER;CN="Sharon Muzio":MAILTO:avwc@comcast.net
END:VEVENT
BEGIN:VEVENT
DTSTART;TZID=UTC:20220922T180000
DTEND;TZID=UTC:20220922T180000
DTSTAMP:20260425T135559
CREATED:20220805T195918Z
LAST-MODIFIED:20220805T195918Z
UID:147-1663869600-1663869600@www.patriciabanzhoff.com
SUMMARY:Fall Equinox Smudging Class and Fire Ceremony
DESCRIPTION:At 6PM we will explore the variety of smudging tools and their particular strengths and purpose. Also we will practice smudging each other and “reading the smoke”. Contribution $25. please reserve your spot by text or email. \nAt 7:30 is the Free Fire Ceremony. Bring a stick bring a chair bring a friend.
URL:https://www.patriciabanzhoff.com/events/fall-equinox-smudging-class-and-fire-ceremony/
LOCATION:Banzhoff Property\, 2308 Stumpstown Rd\, Mechanicsburg\, PA\, 17055-5784\, United States
ORGANIZER;CN="Pat":MAILTO:patricia@banzhoff.com
END:VEVENT
BEGIN:VEVENT
DTSTART;TZID=UTC:20220806T110000
DTEND;TZID=UTC:20220806T180000
DTSTAMP:20260425T135559
CREATED:20220614T172905Z
LAST-MODIFIED:20220614T172905Z
UID:141-1659783600-1659808800@www.patriciabanzhoff.com
SUMMARY:Intuitive Readings at Carlisle Creative Vibes
DESCRIPTION:Pat will be doing intuitive readings again. Sign up in advance at carlislecreativevibes.com or stop in. Readings run at 20 minutes for $49 and 30 minutes for $69.
URL:https://www.patriciabanzhoff.com/events/intuitive-readings-at-carlisle-creative-vibes-4/
LOCATION:Carlisle Creative Vibes\, 152 N Hanover St\, Carlisle\, PA\, 17013\, United States
ATTACH;FMTTYPE=image/jpeg:https://www.patriciabanzhoff.com/wp-content/uploads/2022/05/coralcasting-1-scaled.jpg
ORGANIZER;CN="Matthew":MAILTO:carlislecreativevibes@gmail.com
END:VEVENT
BEGIN:VEVENT
DTSTART;TZID=UTC:20220806T110000
DTEND;TZID=UTC:20220806T180000
DTSTAMP:20260425T135559
CREATED:20220614T172639Z
LAST-MODIFIED:20220614T172639Z
UID:139-1659783600-1659808800@www.patriciabanzhoff.com
SUMMARY:Intuitive Readings at Carlisle Creative Vibes
DESCRIPTION:Pat will be doing intuitive readings again. Sign up in advance at carlislecreativevibes.com or stop in. Readings run at 20 minutes for $49 and 30 minutes for $69.
URL:https://www.patriciabanzhoff.com/events/intuitive-readings-at-carlisle-creative-vibes-3/
LOCATION:Carlisle Creative Vibes\, 152 N Hanover St\, Carlisle\, PA\, 17013\, United States
ATTACH;FMTTYPE=image/jpeg:https://www.patriciabanzhoff.com/wp-content/uploads/2022/05/coralcasting-1-scaled.jpg
ORGANIZER;CN="Pat":MAILTO:patricia@banzhoff.com
END:VEVENT
BEGIN:VEVENT
DTSTART;TZID=UTC:20220716T110000
DTEND;TZID=UTC:20220716T180000
DTSTAMP:20260425T135559
CREATED:20220614T170901Z
LAST-MODIFIED:20220614T172234Z
UID:137-1657969200-1657994400@www.patriciabanzhoff.com
SUMMARY:Intuitive Readings at Carlisle Creative Vibes
DESCRIPTION:Pat will be doing intuitive readings again. Sign up in advance at carlislecreativevibes.com or stop in. Readings run at 20 minutes for $49 and 30 minutes for $69.
URL:https://www.patriciabanzhoff.com/events/intuitive-readings-at-carlisle-creative-vibes-2/
LOCATION:Carlisle Creative Vibes\, 152 N Hanover St\, Carlisle\, PA\, 17013\, United States
ATTACH;FMTTYPE=image/jpeg:https://www.patriciabanzhoff.com/wp-content/uploads/2022/05/coralcasting-1-scaled.jpg
ORGANIZER;CN="Matthew":MAILTO:carlislecreativevibes@gmail.com
END:VEVENT
BEGIN:VEVENT
DTSTART;TZID=UTC:20220618T110000
DTEND;TZID=UTC:20220618T180000
DTSTAMP:20260425T135559
CREATED:20220531T180628Z
LAST-MODIFIED:20220531T180805Z
UID:127-1655550000-1655575200@www.patriciabanzhoff.com
SUMMARY:Intuitive Readings at Carlisle Creative Vibes
DESCRIPTION:Each month\, on a Saturday selected by Pat and Matthew\, I will be offering Intuitive Readings. Are you unclear about something? Stuck? Want some guidance for your Highest Good? Come see me!
URL:https://www.patriciabanzhoff.com/events/intuitive-readings-at-carlisle-creative-vibes/
LOCATION:Carlisle Creative Vibes\, 152 N Hanover St\, Carlisle\, PA\, 17013\, United States
ATTACH;FMTTYPE=image/jpeg:https://www.patriciabanzhoff.com/wp-content/uploads/2022/05/coralcasting-scaled-e1654019998466.jpg
ORGANIZER;CN="Matthew":MAILTO:carlislecreativevibes@gmail.com
END:VEVENT
BEGIN:VEVENT
DTSTART;TZID=UTC:20220614T193000
DTEND;TZID=UTC:20220614T210000
DTSTAMP:20260425T135559
CREATED:20220531T174510Z
LAST-MODIFIED:20220531T174510Z
UID:121-1655235000-1655240400@www.patriciabanzhoff.com
SUMMARY:Full (Super Moon) Moon Fire Ceremony at Carlisle Creative Vibes
DESCRIPTION:The theme  is     R.E.S.P.E.C.T   (like the song)\n(respecting yourself as well as others)\nNot LGBTQ yourself\, no worries. After all this is about inclusivity.\nWhat is fire ceremony? It is a simple act of people gathering together at a fire for the purpose of supporting each other. How we do that is that the leader opens sacred space\, honoring each person’s individual belief system. She then creates the opportunity for each person to release a stick into the fire with the intention of creating or letting go of something in their lives. All are welcome. The evening is free. A donation will be accepted after the ceremony if offered. And it’s Super Full Moon and Flag Day. How perfect!\nBring a stick\, bring a chair\, bring a friend.
URL:https://www.patriciabanzhoff.com/events/full-super-moon-moon-fire-ceremony-at-carlisle-creative-vibes/
LOCATION:Carlisle Creative Vibes\, 152 N Hanover St\, Carlisle\, PA\, 17013\, United States
ATTACH;FMTTYPE=image/png:https://www.patriciabanzhoff.com/wp-content/uploads/2022/05/gayflag.png
ORGANIZER;CN="Matthew":MAILTO:carlislecreativevibes@gmail.com
END:VEVENT
BEGIN:VEVENT
DTSTART;TZID=America/New_York:20220609T183000
DTEND;TZID=America/New_York:20220609T200000
DTSTAMP:20260425T135559
CREATED:20220519T211424Z
LAST-MODIFIED:20220519T211424Z
UID:97-1654799400-1654804800@www.patriciabanzhoff.com
SUMMARY:Smudging Products and Techniques
DESCRIPTION:Come one Come all – new or proficient smudgersSmudging is a ceremonial rite used by many cultures for cleansing or blessing persons and/or spaces. We will play with and discuss – the different properties of a variety of products used as tools for smudging. We will focus on technique\, how to receive “information” from our efforts and practice smudging each other. Each participant will go home having made a mini smudge stick for their own future use.
URL:https://www.patriciabanzhoff.com/events/smudging-products-and-techniques/
LOCATION:The Rosemary House & Gardens\, 120 South Market Street\, Mechanicsburg\, PA\, 17055\, United States
END:VEVENT
END:VCALENDAR