BEGIN:VCALENDAR
VERSION:2.0
PRODID:-//Higher Grounding - ECPv6.15.20//NONSGML v1.0//EN
CALSCALE:GREGORIAN
METHOD:PUBLISH
X-WR-CALNAME:Higher Grounding
X-ORIGINAL-URL:https://www.patriciabanzhoff.com
X-WR-CALDESC:Events for Higher Grounding
REFRESH-INTERVAL;VALUE=DURATION:PT1H
X-Robots-Tag:noindex
X-PUBLISHED-TTL:PT1H
BEGIN:VTIMEZONE
TZID:UTC
BEGIN:STANDARD
TZOFFSETFROM:+0000
TZOFFSETTO:+0000
TZNAME:UTC
DTSTART:20250101T000000
END:STANDARD
END:VTIMEZONE
BEGIN:VEVENT
DTSTART;TZID=UTC:20260111T130000
DTEND;TZID=UTC:20260111T160000
DTSTAMP:20260423T233700
CREATED:20250929T180841Z
LAST-MODIFIED:20250929T180841Z
UID:512-1768136400-1768147200@www.patriciabanzhoff.com
SUMMARY:Vision Board Afternoon
DESCRIPTION:Come play with your possibilities\, enhancing the potential of manifesting your intentions with creation of a Vision Board. Bring your buddies or meet new people. Either way it is a fun and relaxing way to spend a Winter afternoon. I provide all of the supplies but by all means bring any pictures or items you wish to incorporate. Light refreshments also provided. Three independent dates are available. This is the second one.
URL:https://www.patriciabanzhoff.com/events/vision-board-afternoon-2/
LOCATION:Banzhoff Property\, 2308 Stumpstown Rd\, Mechanicsburg\, PA\, 17055-5784\, United States
ATTACH;FMTTYPE=image/jpeg:https://www.patriciabanzhoff.com/wp-content/uploads/2025/09/Jen-Vision-Board-2.jpg
END:VEVENT
BEGIN:VEVENT
DTSTART;TZID=UTC:20260118T130000
DTEND;TZID=UTC:20260118T160000
DTSTAMP:20260423T233700
CREATED:20250929T181233Z
LAST-MODIFIED:20250929T181407Z
UID:515-1768741200-1768752000@www.patriciabanzhoff.com
SUMMARY:Vision Board Afternoon
DESCRIPTION:Come play with your possibilities\, enhancing the potential of manifesting your intentions with creation of a Vision Board. Bring your buddies or meet new awesome people. Either way it is a fun and relaxing way to spend a Winter afternoon. I provide all of the supplies but by all means bring any pictures or items you wish to incorporate. Light refreshments also provided. Three different dates are available. This is the third and last one for 2026.
URL:https://www.patriciabanzhoff.com/events/vision-board-afternoon-3/
LOCATION:Banzhoff Property\, 2308 Stumpstown Rd\, Mechanicsburg\, PA\, 17055-5784\, United States
ATTACH;FMTTYPE=image/jpeg:https://www.patriciabanzhoff.com/wp-content/uploads/2025/09/thumbnail_20211230_1343382.jpg
END:VEVENT
BEGIN:VEVENT
DTSTART;TZID=UTC:20260308T120000
DTEND;TZID=UTC:20260308T150000
DTSTAMP:20260423T233700
CREATED:20260218T121817Z
LAST-MODIFIED:20260218T121817Z
UID:531-1772971200-1772982000@www.patriciabanzhoff.com
SUMMARY:Spring Sample Sunday
DESCRIPTION:Curious about herbal medicine? \nCome chat with Pat Banzhoff\, herbalist \nAnd taste\, smell\, feel\, ask questions about  \nHow the herbs may support YOU.
URL:https://www.patriciabanzhoff.com/events/spring-sample-sunday/
LOCATION:Consciousness Coffee\, 1 Lemoyne Square Suite 108\, Lemoyne\, PA\, 17043\, United States
ATTACH;FMTTYPE=image/jpeg:https://www.patriciabanzhoff.com/wp-content/uploads/2026/02/Spring-Sample-Sunday.jpg
ORGANIZER;CN="Pat":MAILTO:patricia@banzhoff.com
END:VEVENT
BEGIN:VEVENT
DTSTART;TZID=UTC:20260320T190000
DTEND;TZID=UTC:20260320T210000
DTSTAMP:20260423T233700
CREATED:20260301T213250Z
LAST-MODIFIED:20260301T213250Z
UID:535-1774033200-1774040400@www.patriciabanzhoff.com
SUMMARY:Spring Equinox Fire Ceremony
DESCRIPTION:Fire Ceremony is an easy event to attend. Simply put\, participants set an intention of something to release or manifest in their lives. There is no formal fee. Donations are accepted and optional.  Bring a stick\, bring a chair\, bring a friend. And there are always first timers at these seasonal events.
URL:https://www.patriciabanzhoff.com/events/spring-equinox-fire-ceremony-3/
LOCATION:Banzhoff Property\, 2308 Stumpstown Rd\, Mechanicsburg\, PA\, 17055-5784\, United States
ATTACH;FMTTYPE=image/png:https://www.patriciabanzhoff.com/wp-content/uploads/2026/03/Spring-Fire-Ceremony-2026.png
END:VEVENT
END:VCALENDAR