BEGIN:VCALENDAR
VERSION:2.0
PRODID:-//Higher Grounding - ECPv6.15.20//NONSGML v1.0//EN
CALSCALE:GREGORIAN
METHOD:PUBLISH
X-ORIGINAL-URL:https://www.patriciabanzhoff.com
X-WR-CALDESC:Events for Higher Grounding
REFRESH-INTERVAL;VALUE=DURATION:PT1H
X-Robots-Tag:noindex
X-PUBLISHED-TTL:PT1H
BEGIN:VTIMEZONE
TZID:UTC
BEGIN:STANDARD
TZOFFSETFROM:+0000
TZOFFSETTO:+0000
TZNAME:UTC
DTSTART:20240101T000000
END:STANDARD
END:VTIMEZONE
BEGIN:VEVENT
DTSTART;TZID=UTC:20251018T110000
DTEND;TZID=UTC:20251018T163000
DTSTAMP:20260424T023434
CREATED:20250929T164911Z
LAST-MODIFIED:20250929T164911Z
UID:485-1760785200-1760805000@www.patriciabanzhoff.com
SUMMARY:Intuitive Readings at Carlisle Creative Vibes
DESCRIPTION:You can always text or email me to schedule a reading at The Higher Grounding space on my property.  This place and time is a predictable time you can find me if you want to come to Carlisle. It’s such a cool town!
URL:https://www.patriciabanzhoff.com/events/intuitive-readings-at-carlisle-creative-vibes-25/
LOCATION:Carlisle Creative Vibes\, 152 N Hanover St\, Carlisle\, PA\, 17013\, United States
ATTACH;FMTTYPE=image/jpeg:https://www.patriciabanzhoff.com/wp-content/uploads/2024/02/readings-scaled.jpg
END:VEVENT
END:VCALENDAR