BEGIN:VCALENDAR
VERSION:2.0
PRODID:-//Higher Grounding - ECPv6.15.20//NONSGML v1.0//EN
CALSCALE:GREGORIAN
METHOD:PUBLISH
X-WR-CALNAME:Higher Grounding
X-ORIGINAL-URL:https://www.patriciabanzhoff.com
X-WR-CALDESC:Events for Higher Grounding
REFRESH-INTERVAL;VALUE=DURATION:PT1H
X-Robots-Tag:noindex
X-PUBLISHED-TTL:PT1H
BEGIN:VTIMEZONE
TZID:UTC
BEGIN:STANDARD
TZOFFSETFROM:+0000
TZOFFSETTO:+0000
TZNAME:UTC
DTSTART:20240101T000000
END:STANDARD
END:VTIMEZONE
BEGIN:VEVENT
DTSTART;TZID=UTC:20251012T120000
DTEND;TZID=UTC:20251012T150000
DTSTAMP:20260424T023336
CREATED:20250929T163733Z
LAST-MODIFIED:20250929T163733Z
UID:483-1760270400-1760281200@www.patriciabanzhoff.com
SUMMARY:Sample Sunday at Consciousness Coffee
DESCRIPTION:Yes\, it’s your monthly opportunity to come and chat about herbs and sample a variety of topical and ingestible preparations.
URL:https://www.patriciabanzhoff.com/events/sample-sunday-at-consciousness-coffee/
LOCATION:Consciousness Coffee\, 1 Lemoyne Square Suite 108\, Lemoyne\, PA\, 17043\, United States
ATTACH;FMTTYPE=image/jpeg:https://www.patriciabanzhoff.com/wp-content/uploads/2025/08/20250718_105338-scaled.jpg
ORGANIZER;CN="Pat":MAILTO:patricia@banzhoff.com
END:VEVENT
END:VCALENDAR