BEGIN:VCALENDAR
VERSION:2.0
PRODID:-//Higher Grounding - ECPv6.15.20//NONSGML v1.0//EN
CALSCALE:GREGORIAN
METHOD:PUBLISH
X-ORIGINAL-URL:https://www.patriciabanzhoff.com
X-WR-CALDESC:Events for Higher Grounding
REFRESH-INTERVAL;VALUE=DURATION:PT1H
X-Robots-Tag:noindex
X-PUBLISHED-TTL:PT1H
BEGIN:VTIMEZONE
TZID:UTC
BEGIN:STANDARD
TZOFFSETFROM:+0000
TZOFFSETTO:+0000
TZNAME:UTC
DTSTART:20240101T000000
END:STANDARD
END:VTIMEZONE
BEGIN:VEVENT
DTSTART;TZID=UTC:20250808T193000
DTEND;TZID=UTC:20250808T203000
DTSTAMP:20260424T053326
CREATED:20250801T123441Z
LAST-MODIFIED:20250801T123441Z
UID:467-1754681400-1754685000@www.patriciabanzhoff.com
SUMMARY:Lions Gate Fire Ceremony
DESCRIPTION:August 8 is traditionally known as “Lion’s Gate”. The moon is in Leo explains the lion part of the name. And multiple sources attribute this time as a special portal opportunity. Actually\, just like the moon\, there is a buildup and a lessening of cosmic energies starting July 26 and ending August 12 or so.  And full moon is the next night\, so it lines up to be a great time for ceremony. Bring a stick\, bring a chair\, bring a friend:)
URL:https://www.patriciabanzhoff.com/events/lions-gate-fire-ceremony/
LOCATION:Banzhoff Property\, 2308 Stumpstown Rd\, Mechanicsburg\, PA\, 17055-5784\, United States
ATTACH;FMTTYPE=image/jpeg:https://www.patriciabanzhoff.com/wp-content/uploads/2025/08/lionsgate.jpg
ORGANIZER;CN="Pat":MAILTO:patricia@banzhoff.com
END:VEVENT
END:VCALENDAR