BEGIN:VCALENDAR
VERSION:2.0
PRODID:-//Higher Grounding - ECPv6.15.20//NONSGML v1.0//EN
CALSCALE:GREGORIAN
METHOD:PUBLISH
X-ORIGINAL-URL:https://www.patriciabanzhoff.com
X-WR-CALDESC:Events for Higher Grounding
REFRESH-INTERVAL;VALUE=DURATION:PT1H
X-Robots-Tag:noindex
X-PUBLISHED-TTL:PT1H
BEGIN:VTIMEZONE
TZID:UTC
BEGIN:STANDARD
TZOFFSETFROM:+0000
TZOFFSETTO:+0000
TZNAME:UTC
DTSTART:20240101T000000
END:STANDARD
END:VTIMEZONE
BEGIN:VEVENT
DTSTART;TZID=UTC:20250618T183000
DTEND;TZID=UTC:20250618T200000
DTSTAMP:20260424T082614
CREATED:20250420T181901Z
LAST-MODIFIED:20250420T182606Z
UID:402-1750271400-1750276800@www.patriciabanzhoff.com
SUMMARY:Infusing Plants Into your Spiritual Practice
DESCRIPTION:Want to amplify and add a new level of richness into your current spiritual practice? Join me in a conversation about partnering in a meaningful way with a variety of plants. It will include a dose of science and a dash of the mystic. All belief systems welcome.
URL:https://www.patriciabanzhoff.com/events/infusing-plants-into-your-spiritual-practice/
LOCATION:The Rosemary House & Gardens\, 120 South Market Street\, Mechanicsburg\, PA\, 17055\, United States
ATTACH;FMTTYPE=image/png:https://www.patriciabanzhoff.com/wp-content/uploads/2025/04/Infusing-Plants-into-your-Spiritual.png
END:VEVENT
END:VCALENDAR