BEGIN:VCALENDAR
VERSION:2.0
PRODID:-//Higher Grounding - ECPv6.15.20//NONSGML v1.0//EN
CALSCALE:GREGORIAN
METHOD:PUBLISH
X-WR-CALNAME:Higher Grounding
X-ORIGINAL-URL:https://www.patriciabanzhoff.com
X-WR-CALDESC:Events for Higher Grounding
REFRESH-INTERVAL;VALUE=DURATION:PT1H
X-Robots-Tag:noindex
X-PUBLISHED-TTL:PT1H
BEGIN:VTIMEZONE
TZID:UTC
BEGIN:STANDARD
TZOFFSETFROM:+0000
TZOFFSETTO:+0000
TZNAME:UTC
DTSTART:20240101T000000
END:STANDARD
END:VTIMEZONE
BEGIN:VEVENT
DTSTART;TZID=UTC:20250504T130000
DTEND;TZID=UTC:20250504T150000
DTSTAMP:20260424T103318
CREATED:20250315T193423Z
LAST-MODIFIED:20250315T193423Z
UID:386-1746363600-1746370800@www.patriciabanzhoff.com
SUMMARY:Mythic Mapping Class - Reading the Signs in Nature
DESCRIPTION:We’re taking it outside for this class. Playing with plants and doing a sand painting with natural elements.
URL:https://www.patriciabanzhoff.com/events/mythic-mapping-class-reading-the-signs-in-nature/
LOCATION:Banzhoff Property\, 2308 Stumpstown Rd\, Mechanicsburg\, PA\, 17055-5784\, United States
ATTACH;FMTTYPE=image/png:https://www.patriciabanzhoff.com/wp-content/uploads/2025/03/Reading-the-signs2.png
ORGANIZER;CN="Pat":MAILTO:patricia@banzhoff.com
END:VEVENT
END:VCALENDAR