BEGIN:VCALENDAR
VERSION:2.0
PRODID:-//Higher Grounding - ECPv6.15.20//NONSGML v1.0//EN
CALSCALE:GREGORIAN
METHOD:PUBLISH
X-ORIGINAL-URL:https://www.patriciabanzhoff.com
X-WR-CALDESC:Events for Higher Grounding
REFRESH-INTERVAL;VALUE=DURATION:PT1H
X-Robots-Tag:noindex
X-PUBLISHED-TTL:PT1H
BEGIN:VTIMEZONE
TZID:UTC
BEGIN:STANDARD
TZOFFSETFROM:+0000
TZOFFSETTO:+0000
TZNAME:UTC
DTSTART:20240101T000000
END:STANDARD
END:VTIMEZONE
BEGIN:VEVENT
DTSTART;TZID=UTC:20250320T183000
DTEND;TZID=UTC:20250320T203000
DTSTAMP:20260424T134700
CREATED:20250131T171218Z
LAST-MODIFIED:20250315T192906Z
UID:376-1742495400-1742502600@www.patriciabanzhoff.com
SUMMARY:Red Thread Ceremony and Spring Equinox Fire Ceremony
DESCRIPTION:Ahh\, it’s finally time again to have Fire Ceremony! And Spring Equinox is a popular one to attend. We have a bonus this time! Angel and Keane (bffs of mine) are offering a red thread ceremony first at 6:30. The fire ceremony will follow. \nI keep things simple: donations accepted\, bring a stick\, bring a chair\, bring a friend. And text or email me if you plan to come.
URL:https://www.patriciabanzhoff.com/events/spring-equinox-fire-ceremony-2/
LOCATION:PA
ATTACH;FMTTYPE=image/jpeg:https://www.patriciabanzhoff.com/wp-content/uploads/2024/02/rattle-bouquet-scaled.jpg
END:VEVENT
END:VCALENDAR