BEGIN:VCALENDAR
VERSION:2.0
PRODID:-//Higher Grounding - ECPv6.15.20//NONSGML v1.0//EN
CALSCALE:GREGORIAN
METHOD:PUBLISH
X-ORIGINAL-URL:https://www.patriciabanzhoff.com
X-WR-CALDESC:Events for Higher Grounding
REFRESH-INTERVAL;VALUE=DURATION:PT1H
X-Robots-Tag:noindex
X-PUBLISHED-TTL:PT1H
BEGIN:VTIMEZONE
TZID:UTC
BEGIN:STANDARD
TZOFFSETFROM:+0000
TZOFFSETTO:+0000
TZNAME:UTC
DTSTART:20240101T000000
END:STANDARD
END:VTIMEZONE
BEGIN:VEVENT
DTSTART;TZID=UTC:20250302T130000
DTEND;TZID=UTC:20250302T150000
DTSTAMP:20260424T134700
CREATED:20250131T164357Z
LAST-MODIFIED:20250131T164357Z
UID:371-1740920400-1740927600@www.patriciabanzhoff.com
SUMMARY:Mythic Mapping Class: Be Your Own Diviner
DESCRIPTION:Your intuition is calling. Will you answer the call? Practice listening to some of the messages the Universe is constantly sending you in this easy playful afternoon. And of course we will use guided meditation to “prime” the time.
URL:https://www.patriciabanzhoff.com/events/mythic-mapping-class-be-your-own-diviner/
LOCATION:Banzhoff Property\, 2308 Stumpstown Rd\, Mechanicsburg\, PA\, 17055-5784\, United States
ATTACH;FMTTYPE=image/png:https://www.patriciabanzhoff.com/wp-content/uploads/2025/01/Be-your-own-Diviner-Facebook-Post.png
ORGANIZER;CN="Pat":MAILTO:patricia@banzhoff.com
END:VEVENT
END:VCALENDAR