BEGIN:VCALENDAR
VERSION:2.0
PRODID:-//Higher Grounding - ECPv6.15.20//NONSGML v1.0//EN
CALSCALE:GREGORIAN
METHOD:PUBLISH
X-WR-CALNAME:Higher Grounding
X-ORIGINAL-URL:https://www.patriciabanzhoff.com
X-WR-CALDESC:Events for Higher Grounding
REFRESH-INTERVAL;VALUE=DURATION:PT1H
X-Robots-Tag:noindex
X-PUBLISHED-TTL:PT1H
BEGIN:VTIMEZONE
TZID:UTC
BEGIN:STANDARD
TZOFFSETFROM:+0000
TZOFFSETTO:+0000
TZNAME:UTC
DTSTART:20230101T000000
END:STANDARD
END:VTIMEZONE
BEGIN:VEVENT
DTSTART;TZID=UTC:20241119T183000
DTEND;TZID=UTC:20241119T200000
DTSTAMP:20260424T200524
CREATED:20241027T203847Z
LAST-MODIFIED:20241027T203847Z
UID:345-1732041000-1732046400@www.patriciabanzhoff.com
SUMMARY:Herbal Support and Defense for the Fall and Winter Season
DESCRIPTION:Herbology is an ongoing learning process. I invite you to sample some of Mother Nature’s “medicine” to help support and resist the nasty “pernicious outside influences” that can abound indoors and outdoors available for us to touch\, breathe\, absorb. Be your own herbal defender\, repelling and releasing these unwanted and uninvited guests!
URL:https://www.patriciabanzhoff.com/events/herbal-support-and-defense-for-the-fall-and-winter-season/
LOCATION:Carlisle Creative Vibes\, 152 N Hanover St\, Carlisle\, PA\, 17013\, United States
ORGANIZER;CN="Pat":MAILTO:patricia@banzhoff.com
END:VEVENT
END:VCALENDAR