BEGIN:VCALENDAR
VERSION:2.0
PRODID:-//Higher Grounding - ECPv6.15.20//NONSGML v1.0//EN
CALSCALE:GREGORIAN
METHOD:PUBLISH
X-WR-CALNAME:Higher Grounding
X-ORIGINAL-URL:https://www.patriciabanzhoff.com
X-WR-CALDESC:Events for Higher Grounding
REFRESH-INTERVAL;VALUE=DURATION:PT1H
X-Robots-Tag:noindex
X-PUBLISHED-TTL:PT1H
BEGIN:VTIMEZONE
TZID:UTC
BEGIN:STANDARD
TZOFFSETFROM:+0000
TZOFFSETTO:+0000
TZNAME:UTC
DTSTART:20230101T000000
END:STANDARD
END:VTIMEZONE
BEGIN:VEVENT
DTSTART;TZID=UTC:20241005T100000
DTEND;TZID=UTC:20241006T180000
DTSTAMP:20260424T212826
CREATED:20240930T193203Z
LAST-MODIFIED:20240930T193203Z
UID:341-1728122400-1728237600@www.patriciabanzhoff.com
SUMMARY:Intuitive Readings at Spirit of Oneness
DESCRIPTION:This is my favorite annual event to meet new people and connect with metaphysically inclined buddies. I will offer my signature coral casting readings (a 3-card oracle spread is included).  you will find me on the lower level in the “Root Chakra” room.
URL:https://www.patriciabanzhoff.com/events/intuitive-readings-at-spirit-of-oneness/
LOCATION:Scottish Rite Cathedral\, 2701 N 3rd Street\, Harrisburg\, PA\, 17110\, United States
ATTACH;FMTTYPE=image/jpeg:https://www.patriciabanzhoff.com/wp-content/uploads/2023/07/spirit_of_oneness_logo_copyright.jpg
ORGANIZER;CN="Sharon Muzio":MAILTO:avwc@comcast.net
END:VEVENT
END:VCALENDAR