BEGIN:VCALENDAR
VERSION:2.0
PRODID:-//Higher Grounding - ECPv6.15.20//NONSGML v1.0//EN
CALSCALE:GREGORIAN
METHOD:PUBLISH
X-WR-CALNAME:Higher Grounding
X-ORIGINAL-URL:https://www.patriciabanzhoff.com
X-WR-CALDESC:Events for Higher Grounding
REFRESH-INTERVAL;VALUE=DURATION:PT1H
X-Robots-Tag:noindex
X-PUBLISHED-TTL:PT1H
BEGIN:VTIMEZONE
TZID:UTC
BEGIN:STANDARD
TZOFFSETFROM:+0000
TZOFFSETTO:+0000
TZNAME:UTC
DTSTART:20230101T000000
END:STANDARD
END:VTIMEZONE
BEGIN:VEVENT
DTSTART;TZID=UTC:20240612T183000
DTEND;TZID=UTC:20240612T200000
DTSTAMP:20260425T034924
CREATED:20240515T192359Z
LAST-MODIFIED:20240515T192359Z
UID:312-1718217000-1718222400@www.patriciabanzhoff.com
SUMMARY:Smudging Techniques at the Rosemary House
DESCRIPTION:Back by popular demand\, I will happily spend time reviewing different smudging tools and techniques. Set up as an interactive evening\, we will smudge each other\, playing with “reading the smoke” and make a smudge stick with mugwort (enhances dreamtime) all in the magical gardens at the Rosemary House.
URL:https://www.patriciabanzhoff.com/events/smudging-techniques-at-the-rosemary-house/
LOCATION:The Rosemary House & Gardens\, 120 South Market Street\, Mechanicsburg\, PA\, 17055\, United States
ATTACH;FMTTYPE=image/jpeg:https://www.patriciabanzhoff.com/wp-content/uploads/2022/05/Smudge-Header-scaled-1.jpeg
END:VEVENT
END:VCALENDAR