BEGIN:VCALENDAR
VERSION:2.0
PRODID:-//Higher Grounding - ECPv6.15.20//NONSGML v1.0//EN
CALSCALE:GREGORIAN
METHOD:PUBLISH
X-ORIGINAL-URL:https://www.patriciabanzhoff.com
X-WR-CALDESC:Events for Higher Grounding
REFRESH-INTERVAL;VALUE=DURATION:PT1H
X-Robots-Tag:noindex
X-PUBLISHED-TTL:PT1H
BEGIN:VTIMEZONE
TZID:UTC
BEGIN:STANDARD
TZOFFSETFROM:+0000
TZOFFSETTO:+0000
TZNAME:UTC
DTSTART:20220101T000000
END:STANDARD
END:VTIMEZONE
BEGIN:VEVENT
DTSTART;TZID=UTC:20231101T190000
DTEND;TZID=UTC:20231101T203000
DTSTAMP:20260425T150947
CREATED:20230707T200240Z
LAST-MODIFIED:20230707T200240Z
UID:214-1698865200-1698870600@www.patriciabanzhoff.com
SUMMARY:All Saints Day/Day of the Dead/Samhain Fire Ceremony
DESCRIPTION:My annual theme for this specific fire is “Honoring our Ancestors” As a special component to ceremony\, I will be offering to the fire\, the despacho (prayer bundle) created by the class on October 24 at the Rosemary House.  Whether you attended that class or not\, join me on this special night.
URL:https://www.patriciabanzhoff.com/events/all-saints-day-day-of-the-dead-samhain-fire-ceremony/
LOCATION:Banzhoff Property\, 2308 Stumpstown Rd\, Mechanicsburg\, PA\, 17055-5784\, United States
ATTACH;FMTTYPE=image/jpeg:https://www.patriciabanzhoff.com/wp-content/uploads/2023/07/ancestorfire.jpeg
ORGANIZER;CN="Pat":MAILTO:patricia@banzhoff.com
END:VEVENT
END:VCALENDAR