BEGIN:VCALENDAR
VERSION:2.0
PRODID:-//Higher Grounding - ECPv6.15.20//NONSGML v1.0//EN
CALSCALE:GREGORIAN
METHOD:PUBLISH
X-WR-CALNAME:Higher Grounding
X-ORIGINAL-URL:https://www.patriciabanzhoff.com
X-WR-CALDESC:Events for Higher Grounding
REFRESH-INTERVAL;VALUE=DURATION:PT1H
X-Robots-Tag:noindex
X-PUBLISHED-TTL:PT1H
BEGIN:VTIMEZONE
TZID:UTC
BEGIN:STANDARD
TZOFFSETFROM:+0000
TZOFFSETTO:+0000
TZNAME:UTC
DTSTART:20220101T000000
END:STANDARD
END:VTIMEZONE
BEGIN:VEVENT
DTSTART;TZID=UTC:20231021T110000
DTEND;TZID=UTC:20231021T180000
DTSTAMP:20260425T163011
CREATED:20230707T192620Z
LAST-MODIFIED:20230707T192620Z
UID:202-1697886000-1697911200@www.patriciabanzhoff.com
SUMMARY:Intuitive Readings at Carlisle Creative Vibes
DESCRIPTION:I use a unique process called coral casting. My tool is a set of small pieces of coral from the island of Cozumel where I learned how to “read” them. We finish the session with a 3 card spread. The experience is interactive and instructional. Intrigued?
URL:https://www.patriciabanzhoff.com/events/intuitive-readings-at-carlisle-creative-vibes-11/
LOCATION:Carlisle Creative Vibes\, 152 N Hanover St\, Carlisle\, PA\, 17013\, United States
ATTACH;FMTTYPE=image/jpeg:https://www.patriciabanzhoff.com/wp-content/uploads/2022/05/coralcasting-scaled-e1654019998466.jpg
ORGANIZER;CN="Matthew":MAILTO:carlislecreativevibes@gmail.com
END:VEVENT
END:VCALENDAR