BEGIN:VCALENDAR
VERSION:2.0
PRODID:-//Higher Grounding - ECPv6.15.20//NONSGML v1.0//EN
CALSCALE:GREGORIAN
METHOD:PUBLISH
X-WR-CALNAME:Higher Grounding
X-ORIGINAL-URL:https://www.patriciabanzhoff.com
X-WR-CALDESC:Events for Higher Grounding
REFRESH-INTERVAL;VALUE=DURATION:PT1H
X-Robots-Tag:noindex
X-PUBLISHED-TTL:PT1H
BEGIN:VTIMEZONE
TZID:UTC
BEGIN:STANDARD
TZOFFSETFROM:+0000
TZOFFSETTO:+0000
TZNAME:UTC
DTSTART:20220101T000000
END:STANDARD
END:VTIMEZONE
BEGIN:VEVENT
DTSTART;TZID=UTC:20231012T183000
DTEND;TZID=UTC:20231012T183000
DTSTAMP:20260425T163016
CREATED:20230903T213629Z
LAST-MODIFIED:20230903T214959Z
UID:225-1697135400-1697135400@www.patriciabanzhoff.com
SUMMARY:Mythic Mapping
DESCRIPTION:This is the second of three in the series. \nMythic Mapping: When we hear the word “myth” we think of something that is untrue. I invite you to instead\, replace it with the words “symbols” or “signs.”  And “mapping” sounds like drawing a picture for the purpose of directions. In the “Mythic Mapping” classes\, we will learn and practice discerning potential signs around us and “see” the bigger picture (map). \nWe are in a time of accelerated opportunity to navigate our lives in an “informed” way. Come tune up your tools in a nonthreatening\, fun way. \nCome for any evening or all three.
URL:https://www.patriciabanzhoff.com/events/mythic-mapping/
LOCATION:Banzhoff Property\, 2308 Stumpstown Rd\, Mechanicsburg\, PA\, 17055-5784\, United States
ORGANIZER;CN="Pat":MAILTO:patricia@banzhoff.com
END:VEVENT
BEGIN:VEVENT
DTSTART;TZID=UTC:20230928T183000
DTEND;TZID=UTC:20230928T200000
DTSTAMP:20260425T163016
CREATED:20230903T214435Z
LAST-MODIFIED:20230905T153124Z
UID:220-1695925800-1695931200@www.patriciabanzhoff.com
SUMMARY:Mythic Mapping\, an Intuitive Training and Practice Evening
DESCRIPTION:In this first of three evening events\, we will playfully explore and practice the ways we can notice and interpret the signs that naturally occur in our lives. We will also look at tools to easily access our inner observer to see our bigger picture. People can participate in 1 or 2 or 3 events. Each evening is a complete experience and yet different practices will be presented\, explored\, and practiced.
URL:https://www.patriciabanzhoff.com/events/mythic-mapping-an-intuitive-training-and-practice-evening/
LOCATION:Banzhoff Property\, 2308 Stumpstown Rd\, Mechanicsburg\, PA\, 17055-5784\, United States
ORGANIZER;CN="Pat":MAILTO:patricia@banzhoff.com
END:VEVENT
END:VCALENDAR