BEGIN:VCALENDAR
VERSION:2.0
PRODID:-//Higher Grounding - ECPv6.15.20//NONSGML v1.0//EN
CALSCALE:GREGORIAN
METHOD:PUBLISH
X-ORIGINAL-URL:https://www.patriciabanzhoff.com
X-WR-CALDESC:Events for Higher Grounding
REFRESH-INTERVAL;VALUE=DURATION:PT1H
X-Robots-Tag:noindex
X-PUBLISHED-TTL:PT1H
BEGIN:VTIMEZONE
TZID:UTC
BEGIN:STANDARD
TZOFFSETFROM:+0000
TZOFFSETTO:+0000
TZNAME:UTC
DTSTART:20220101T000000
END:STANDARD
END:VTIMEZONE
BEGIN:VEVENT
DTSTART;TZID=UTC:20230922T193000
DTEND;TZID=UTC:20230922T210000
DTSTAMP:20260425T180029
CREATED:20230707T195613Z
LAST-MODIFIED:20230822T154419Z
UID:211-1695411000-1695416400@www.patriciabanzhoff.com
SUMMARY:Fall Equinox Fire Ceremony
DESCRIPTION:Join me for this lovely seasonal magical time in the calendar. Bring a stick\, bring a chair\, bring a friend. There are ALWAYS first-timers in attendance! Donations accepted\, not expected. text or email if you have questions.
URL:https://www.patriciabanzhoff.com/events/fall-equinox-fire-ceremony/
LOCATION:Banzhoff Property\, 2308 Stumpstown Rd\, Mechanicsburg\, PA\, 17055-5784\, United States
ATTACH;FMTTYPE=image/jpeg:https://www.patriciabanzhoff.com/wp-content/uploads/2023/07/ancestorfire.jpeg
ORGANIZER;CN="Pat":MAILTO:patricia@banzhoff.com
END:VEVENT
END:VCALENDAR