BEGIN:VCALENDAR
VERSION:2.0
PRODID:-//Higher Grounding - ECPv6.15.20//NONSGML v1.0//EN
CALSCALE:GREGORIAN
METHOD:PUBLISH
X-ORIGINAL-URL:https://www.patriciabanzhoff.com
X-WR-CALDESC:Events for Higher Grounding
REFRESH-INTERVAL;VALUE=DURATION:PT1H
X-Robots-Tag:noindex
X-PUBLISHED-TTL:PT1H
BEGIN:VTIMEZONE
TZID:UTC
BEGIN:STANDARD
TZOFFSETFROM:+0000
TZOFFSETTO:+0000
TZNAME:UTC
DTSTART:20220101T000000
END:STANDARD
END:VTIMEZONE
BEGIN:VEVENT
DTSTART;TZID=UTC:20230801T193000
DTEND;TZID=UTC:20230801T210000
DTSTAMP:20260425T193301
CREATED:20230707T135532Z
LAST-MODIFIED:20230707T135532Z
UID:190-1690918200-1690923600@www.patriciabanzhoff.com
SUMMARY:August 1 Full Moon Fire Ceremony
DESCRIPTION:Tuesday August 1 at 7:30 is my next fire ceremony. Summer is an easy time to show up for the fire….for your self.  You might even want to prepare a little and “check in” with yourself before walking to the fire. What is your intention for this sacred ceremony? What is activated in your heart? Is it pain? Is it longing? Is it gratitude? Is it fear? No judgements here. We feel what we feel. And bring it to the beautiful simple sacred ceremony. Bring a stick\, bring a chair\, bring a friend.
URL:https://www.patriciabanzhoff.com/events/august-1-full-moon-fire-ceremony/
LOCATION:Banzhoff Property\, 2308 Stumpstown Rd\, Mechanicsburg\, PA\, 17055-5784\, United States
ORGANIZER;CN="Pat":MAILTO:patricia@banzhoff.com
END:VEVENT
END:VCALENDAR