BEGIN:VCALENDAR
VERSION:2.0
PRODID:-//Higher Grounding - ECPv6.15.20//NONSGML v1.0//EN
CALSCALE:GREGORIAN
METHOD:PUBLISH
X-ORIGINAL-URL:https://www.patriciabanzhoff.com
X-WR-CALDESC:Events for Higher Grounding
REFRESH-INTERVAL;VALUE=DURATION:PT1H
X-Robots-Tag:noindex
X-PUBLISHED-TTL:PT1H
BEGIN:VTIMEZONE
TZID:UTC
BEGIN:STANDARD
TZOFFSETFROM:+0000
TZOFFSETTO:+0000
TZNAME:UTC
DTSTART:20220101T000000
END:STANDARD
END:VTIMEZONE
BEGIN:VEVENT
DTSTART;TZID=UTC:20230621T180000
DTEND;TZID=UTC:20230621T193000
DTSTAMP:20260425T224944
CREATED:20230331T170857Z
LAST-MODIFIED:20230331T170857Z
UID:174-1687370400-1687375800@www.patriciabanzhoff.com
SUMMARY:Summer Solstice Smudging Class and Fire Ceremony
DESCRIPTION:Come play with some smudging items you may not be familiar with. We will experience plant-based\, wood (palo santo) and resins and their specific uses. We will also play with “reading the smoke”\, smudge each other\, and make a mini smudge stick.  $40 for class; fire ceremony at 7:30 is free.
URL:https://www.patriciabanzhoff.com/events/summer-solstice-smudging-class-and-fire-ceremony/
LOCATION:Carlisle Creative Vibes\, 152 N Hanover St\, Carlisle\, PA\, 17013\, United States
ATTACH;FMTTYPE=image/jpeg:https://www.patriciabanzhoff.com/wp-content/uploads/2022/05/Smudge-Header-scaled-1.jpeg
ORGANIZER;CN="Matthew":MAILTO:carlislecreativevibes@gmail.com
END:VEVENT
END:VCALENDAR