BEGIN:VCALENDAR
VERSION:2.0
PRODID:-//Higher Grounding - ECPv6.15.20//NONSGML v1.0//EN
CALSCALE:GREGORIAN
METHOD:PUBLISH
X-ORIGINAL-URL:https://www.patriciabanzhoff.com
X-WR-CALDESC:Events for Higher Grounding
REFRESH-INTERVAL;VALUE=DURATION:PT1H
X-Robots-Tag:noindex
X-PUBLISHED-TTL:PT1H
BEGIN:VTIMEZONE
TZID:UTC
BEGIN:STANDARD
TZOFFSETFROM:+0000
TZOFFSETTO:+0000
TZNAME:UTC
DTSTART:20220101T000000
END:STANDARD
END:VTIMEZONE
BEGIN:VEVENT
DTSTART;TZID=UTC:20230617T110000
DTEND;TZID=UTC:20230617T180000
DTSTAMP:20260425T224944
CREATED:20230614T143742Z
LAST-MODIFIED:20230614T143742Z
UID:186-1686999600-1687024800@www.patriciabanzhoff.com
SUMMARY:New Moon Intuitive Readings at Carlisle Creative Vibes
DESCRIPTION:Yes\, this Saturday is my monthly scheduled day at Carlisle Creative Vibes. How timely that it is also new moon:)  In the plant world the new moon pulls water in the soil up toward the surface and encourages seeds to swell\, roots to extend\, and leaves to grow. perfect for planting above ground plants. Metaphorically then\, what seeds of your becoming do you want to intend to surface? Where in your life do you want to “branch out”? Let’s explore this together.
URL:https://www.patriciabanzhoff.com/events/new-moon-intuitive-readings-at-carlisle-creative-vibes/
LOCATION:Carlisle Creative Vibes\, 152 N Hanover St\, Carlisle\, PA\, 17013\, United States
ATTACH;FMTTYPE=image/jpeg:https://www.patriciabanzhoff.com/wp-content/uploads/2023/06/coralforinsta-scaled.jpg
ORGANIZER;CN="Matthew":MAILTO:carlislecreativevibes@gmail.com
END:VEVENT
END:VCALENDAR